BEGIN:VCALENDAR
VERSION:2.0
PRODID:-//節税 - ECPv4.6//NONSGML v1.0//EN
CALSCALE:GREGORIAN
METHOD:PUBLISH
X-WR-CALNAME:節税
X-ORIGINAL-URL:https://www.taxnewspress.jp
X-WR-CALDESC:Events for 節税
BEGIN:VEVENT
DTSTART;TZID=Asia/Tokyo:20150629T160000
DTEND;TZID=Asia/Tokyo:20150629T180000
DTSTAMP:20260420T064124
CREATED:20150618T065549Z
LAST-MODIFIED:20150618T070203Z
UID:783-1435593600-1435600800@www.taxnewspress.jp
SUMMARY:魔法のライティング講座in兵庫
DESCRIPTION:\n             \n            \n            Tweet\n            \n            \n    \n\n仕組みでお客が集まる！初心者でもあっという間に 魅力的で人を惹きつける文章が作れる魔法のライティング講座\n文章を書くのが苦手、いつも何を書こうか悩んでいる、読まれる記事が書けない、文章力がない、情報発信が苦手･･･といった人でも、たった２時間学ぶだけで、魔法をかけたように『あなたの作る文章をアッという間に魅力的で実践的な営業力』に変えることができます。 \n たとえ、あなたの国語の成績が悪かったり、今まで文章を書いたことがなかったとしても･･･。 ↓　↓ 仕組みでお客が集まる！初心者でもあっという間に魅力的で人を惹きつける文章が作れる『魔法のライティング講座』詳細 \n※このイベントは企業研修のため一般参加はできません。『魔法のライティング』を開催・招致したい方は下記フォームよりお気軽にご連絡ください。日程を確認してご連絡させていただきます。↓　↓『魔法のライティング講座』主催・招致のお問合せ \n \nこんにちは！タックスニュースプレス出版の大西です。 今回お伝えするのは、私がコピーライター、セールスライターとして、いつも使っている方法で何年もこれをベースに文章や記事を書いている方法です。 \n￣ ￣￣￣￣￣￣￣￣ ※会場に入れる人数の都合上、文章や記事を書くのが苦手な人やこれから文章や記事を書きたいと思っている人に受けていただきたいと思っています。 以下に該当する方、該当する方の関係者はご遠慮ください。 ▼文章を書くのに慣れている方 ▼毎日記事を投稿できている方 ▼メルマガを発行している方 ▼コピーライター ▼Ｗｅｂ制作をしている方 ▼コンサルタント ￣ ￣￣￣￣￣￣￣￣ . . .　 あなたにもこんな経験ありませんか？ ▼文章を書くのが苦手･･･ ▼いつも何を書こうか悩んでいる･･･ ▼読まれる記事がどういったものか 　わからない･･･ ▼文章力がない･･･ ▼情報発信が苦手･･･  \n \n今回の講座をたった２時間学ぶだけで、 魔法をかけたように 『あなたの作る文章をアッという間に魅力的で実践的な営業力』 に変えることができます。 　 文章や記事は誰でも書けますが、 読まれる文章、行動してもらえる文章を つくるのは学んだほうが断然近道です。 ↓　↓ \n仕組みでお客が集まる！初心者でもあっという間に魅力的で人を惹きつける文章が作れる『魔法のライティング講座』詳細 \n※このイベントは企業研修のため一般参加はできません。『魔法のライティング』を開催・招致したい方は下記フォームよりお気軽にご連絡ください。日程を確認してご連絡させていただきます。↓　↓『魔法のライティング講座』主催・招致のお問合せ \n. . . もし、あなたが、ビジネスをしていて Facebook､ブログ､LINE､メルマガなどで 発信しているメッセージが、 『買って下さい』や『誰かの商品の紹介』 『意味のない食事や子供の写真』 といったものなら、今すぐ、、、 　 『売ってください』や『紹介します』と  言われるようなメッセージを発信したり  仕組みをつくることに専念してください。 　 　 居酒屋や眼鏡屋、美容院、石材店も･･･ この『魔法のライティングスキル』を  手に入れたのをきっかけに  お客さんとの関係が良好になり、  経営が安定しました。 　 今回の講座では、 私が今まで文章を書き続けてきた、 プロの考え方やテクニック、ポイントを 公開していきます。 　 その結果、あなたも、 . . . ①文章を書くのが飛躍的に効率化し、 　楽に、そして、速くなり、 ②書くことへのストレスが激減し、 ③人を惹きつける強力で実践的な文章が 　 たった２時間で書けるようになります。 　 魔法をかけたように読まれ、 行動してもらえる文章を書く方法。 それは、、、 ↓　↓ \n仕組みでお客が集まる！初心者でもあっという間に魅力的で人を惹きつける文章が作れる『魔法のライティング講座』詳細 \n※このイベントは企業研修のため一般参加はできません。『魔法のライティング』を開催・招致したい方は下記フォームよりお気軽にご連絡ください。日程を確認してご連絡させていただきます。↓　↓『魔法のライティング講座』主催・招致のお問合せ . . . ※※　追伸　※※ 実際に記事をつくるワークもあるので、 文章を書く感覚がつかめます＾＾ 　 今まで、ブログやメルマガを 書いたことがない人でも、 再現できる方法なので、 講座が終わって結局実践できない･･･ ということはありません＾＾ 　 当日は、 あなたの『書き慣れた筆記用具』を ご持参ください。 時間厳守でお願いします＾＾  \n定員になる前に今すぐお申込みください。  ↓　↓ \n仕組みでお客が集まる！初心者でもあっという間に魅力的で人を惹きつける文章が作れる『魔法のライティング講座』詳細 \n※このイベントは企業研修のため一般参加はできません。『魔法のライティング』を開催・招致したい方は下記フォームよりお気軽にご連絡ください。日程を確認してご連絡させていただきます。↓　↓『魔法のライティング講座』主催・招致のお問合せ \n. . . \n※※　追伸　※※\n \n【イベント、セミナー、勉強会を主催されている方へ】 \n『仕組みでお客が集まる！初心者でもあっという間に魅力的で人を惹きつける文章が作れる魔法のライティング講座』を主催・招致したい方は、下記フォームよりお気軽にご連絡ください。 日程を確認してご連絡させていただきます。 ↓　↓ http://www.taxnewspress.jp/contact/contact_writing_seeds \n\n             \n            \n            Tweet\n            \n            \n    \n\n共有:TweetTumblr で共有\n\n	関連\n
URL:https://www.taxnewspress.jp/event/writing_seeds_hyogo_20150629
LOCATION:兵庫県
CATEGORIES:魔法のライティング講座
ATTACH;FMTTYPE=image/jpeg:https://www.taxnewspress.jp/wp-content/uploads/2015/06/writing.jpg
END:VEVENT
END:VCALENDAR